BEGIN:VCALENDAR
VERSION:2.0
PRODID:researchseminars.org
CALSCALE:GREGORIAN
X-WR-CALNAME:researchseminars.org
BEGIN:VEVENT
SUMMARY:Lorenzo Zambotti (Sorbonne Université)
DTSTART:20210531T080000Z
DTEND:20210531T090000Z
DTSTAMP:20260423T022735Z
UID:SPDEs/1
DESCRIPTION:Title: <a href="https://researchseminars.org/talk/SPDEs/1/">We
 ighted norms and a priori estimates for rough paths</a>\nby Lorenzo Zambot
 ti (Sorbonne Université) as part of Stochastic PDEs and their friends\n\n
 \nAbstract\nWe introduce weighted norms on controlled paths and prove some
  a priori estimates for solutions to rough differential equations. This me
 thod seems particularly effective to handle equations with Lipschitz but u
 nbounded non-linearities. Joint work with F. Caravenna and M. Gubinelli.\n
LOCATION:https://researchseminars.org/talk/SPDEs/1/
END:VEVENT
END:VCALENDAR
