BEGIN:VCALENDAR
VERSION:2.0
PRODID:researchseminars.org
CALSCALE:GREGORIAN
X-WR-CALNAME:researchseminars.org
BEGIN:VEVENT
SUMMARY:Jonathan Tidor (MIT)
DTSTART:20220210T223000Z
DTEND:20220211T000000Z
DTSTAMP:20260423T021049Z
UID:SPAMS/8
DESCRIPTION:Title: <a href="https://researchseminars.org/talk/SPAMS/8/">Co
 mmunication complexity</a>\nby Jonathan Tidor (MIT) as part of MIT Simple 
 Person's Applied Mathematics Seminar\n\nLecture held in Room: 2 - 132 in t
 he Simons Building.\nAbstract: TBA\n
LOCATION:https://researchseminars.org/talk/SPAMS/8/
END:VEVENT
END:VCALENDAR
