BEGIN:VCALENDAR
VERSION:2.0
PRODID:researchseminars.org
CALSCALE:GREGORIAN
X-WR-CALNAME:researchseminars.org
BEGIN:VEVENT
SUMMARY:Matthew Nicoletti (MIT Mathematics)
DTSTART:20211104T213000Z
DTEND:20211104T230000Z
DTSTAMP:20260423T021055Z
UID:SPAMS/5
DESCRIPTION:Title: <a href="https://researchseminars.org/talk/SPAMS/5/">Hy
 drodynamic limit for a surface growth model</a>\nby Matthew Nicoletti (MIT
  Mathematics) as part of MIT Simple Person's Applied Mathematics Seminar\n
 \nLecture held in Room: 2 - 132 in the Simons Building.\n\nAbstract\nWheth
 er random or deterministic\, models for surface growth are studied in many
  areas of pure and applied math\, and are crucial for understanding natura
 l phenomena. We construct and study the basic properties of a surface grow
 th model in 2+1 dimensions.\n
LOCATION:https://researchseminars.org/talk/SPAMS/5/
END:VEVENT
END:VCALENDAR
