BEGIN:VCALENDAR
VERSION:2.0
PRODID:researchseminars.org
CALSCALE:GREGORIAN
X-WR-CALNAME:researchseminars.org
BEGIN:VEVENT
SUMMARY:Alessio Figalli (ETH Zürich)
DTSTART:20211021T130000Z
DTEND:20211021T140000Z
DTSTAMP:20260423T052711Z
UID:SNPDEA/36
DESCRIPTION:Title: <a href="https://researchseminars.org/talk/SNPDEA/36/">
 Free boundary regularity in the Stefan problem</a>\nby Alessio Figalli (ET
 H Zürich) as part of "Partial Differential Equations and Applications" We
 binar\n\n\nAbstract\nThe Stefan problem describes phase transitions such a
 s ice melting to water\, and it is among the most classical free boundary 
 problems. It is well known that the free boundary consists of a smooth par
 t (the regular part) and singular points. In this talk\, I will describe a
  recent result with Ros-Oton and Serra\, where we analyze the singular set
  in the Stefan problem and prove a series of fine results on its structure
 .\n
LOCATION:https://researchseminars.org/talk/SNPDEA/36/
END:VEVENT
END:VCALENDAR
