BEGIN:VCALENDAR
VERSION:2.0
PRODID:researchseminars.org
CALSCALE:GREGORIAN
X-WR-CALNAME:researchseminars.org
BEGIN:VEVENT
SUMMARY:Sam Olesker-Taylor (University of Bath)
DTSTART:20211110T170000Z
DTEND:20211110T180000Z
DTSTAMP:20260423T035937Z
UID:SMES/4
DESCRIPTION:Title: <a href="https://researchseminars.org/talk/SMES/4/">Ran
 dom Walks on Random Cayley Graph</a>\nby Sam Olesker-Taylor (University of
  Bath) as part of Probability and Statistical Mechanics Seminar\n\nAbstrac
 t: TBA\n
LOCATION:https://researchseminars.org/talk/SMES/4/
END:VEVENT
END:VCALENDAR
