BEGIN:VCALENDAR
VERSION:2.0
PRODID:researchseminars.org
CALSCALE:GREGORIAN
X-WR-CALNAME:researchseminars.org
BEGIN:VEVENT
SUMMARY:Eduard Soto Ballesteros (Universitat de Barcelona)
DTSTART:20210407T100000Z
DTEND:20210407T110000Z
DTSTAMP:20260423T004549Z
UID:SIMBa/8
DESCRIPTION:Title: <a href="https://researchseminars.org/talk/SIMBa/8/">Co
 eficients de Fourier al p-èsim intèrval de Ramanujan-Petersson</a>\nby E
 duard Soto Ballesteros (Universitat de Barcelona) as part of Barcelona Mat
 hematics Informal Seminar (SIMBa)\n\n\nAbstract\nL'expansió de Fourier d'
 una forma modular nova de pes 2 i caràcter trivial \nés una sèrie de po
 tències amb coeficients enters algebraics en un cos totalment \nreal. Els
  coeficients d'índex primer tenen un rol protagonista per motius diversos
 . \nLa conjectura de Ramanujan-Petersson\, demostrada por Deligne\, prediu
  que el p-èsim \ncoeficient de Fourier d'una forma modular de pes 2 té n
 orma en $[ 0\, 2 \\sqrt{p} ]$. \nEn aquesta xerrada discutirem quins cosso
 s totalment reals tenen elements primitius \nenters en $[0\, 2 \\sqrt{p}]$
 . Aquest treball en colaboración amb Samuele Anni té orígens\nen un est
 udi computacional d'una conjetura de Coleman.\n
LOCATION:https://researchseminars.org/talk/SIMBa/8/
END:VEVENT
END:VCALENDAR
