BEGIN:VCALENDAR
VERSION:2.0
PRODID:researchseminars.org
CALSCALE:GREGORIAN
X-WR-CALNAME:researchseminars.org
BEGIN:VEVENT
SUMMARY:Marco Praderio Bova (Lancaster University)
DTSTART:20210127T110000Z
DTEND:20210127T120000Z
DTSTAMP:20260423T004552Z
UID:SIMBa/4
DESCRIPTION:Title: <a href="https://researchseminars.org/talk/SIMBa/4/">Pe
 rsistent homology and barcode distance</a>\nby Marco Praderio Bova (Lancas
 ter University) as part of Barcelona Mathematics Informal Seminar (SIMBa)\
 n\n\nAbstract\nPersistent homology is an algebraic topology tool that has 
 gained a lot of relevance in topological data analysis during the past few
  years. During this lecture we will introduce this concept from a categori
 cal point of view and use category theory techniques in order to proove wh
 at is known as stability theorem.\n
LOCATION:https://researchseminars.org/talk/SIMBa/4/
END:VEVENT
END:VCALENDAR
