BEGIN:VCALENDAR
VERSION:2.0
PRODID:researchseminars.org
CALSCALE:GREGORIAN
X-WR-CALNAME:researchseminars.org
BEGIN:VEVENT
SUMMARY:Irene Macías Tarrío (Universitat de Barcelona)
DTSTART:20240228T120000Z
DTEND:20240228T130000Z
DTSTAMP:20260423T004643Z
UID:SIMBa/20
DESCRIPTION:Title: <a href="https://researchseminars.org/talk/SIMBa/20/">M
 oduli spaces of stable vector bundles</a>\nby Irene Macías Tarrío (Unive
 rsitat de Barcelona) as part of Barcelona Mathematics Informal Seminar (SI
 MBa)\n\nLecture held in UB (aula B3).\n\nAbstract\nModuli spaces are essen
 tial constructions that arise in connection with classification problems. 
 When dealing with vector bundles on a smooth algebraic variety X\, the mod
 uli space of stable vector bundles parametrizes isomorphic classes of stab
 le vector bundles. This talk will start with the definition and constructi
 on of this moduli space from the point of view of algebraic geometry. Afte
 r this there will be an overview of the Brill-Noether Theory\, which conce
 rns the study of certain subvarieties of this moduli space in order to kno
 w more about its geometry.\n
LOCATION:https://researchseminars.org/talk/SIMBa/20/
END:VEVENT
END:VCALENDAR
