BEGIN:VCALENDAR
VERSION:2.0
PRODID:researchseminars.org
CALSCALE:GREGORIAN
X-WR-CALNAME:researchseminars.org
BEGIN:VEVENT
SUMMARY:Andrea Bertozzi (UCLA)
DTSTART:20230706T153000Z
DTEND:20230706T163000Z
DTSTAMP:20260423T040040Z
UID:SIAM-PDE/37
DESCRIPTION:Title: <a href="https://researchseminars.org/talk/SIAM-PDE/37/
 ">Undercompressive shocks in tears of wine</a>\nby Andrea Bertozzi (UCLA) 
 as part of Seminar In the Analysis and Methods of PDE (SIAM PDE)\n\nAbstra
 ct: TBA\n
LOCATION:https://researchseminars.org/talk/SIAM-PDE/37/
END:VEVENT
END:VCALENDAR
