BEGIN:VCALENDAR
VERSION:2.0
PRODID:researchseminars.org
CALSCALE:GREGORIAN
X-WR-CALNAME:researchseminars.org
BEGIN:VEVENT
SUMMARY:José Figueroa-O'Farrill (University of Edinburgh)
DTSTART:20200514T200000Z
DTEND:20200514T210000Z
DTSTAMP:20260423T021152Z
UID:SGFM/3
DESCRIPTION:Title: <a href="https://researchseminars.org/talk/SGFM/3/">Sup
 ersymmetry and Lie algebra deformations</a>\nby José Figueroa-O'Farrill (
 University of Edinburgh) as part of Seminario de Geometría y Física - Ma
 temática UCN-USP\n\n\nAbstract\nI will summarise recent work in collabora
 tion with Andrew Beckett\, Paul de Medeiros\, and Andrea Santi concerning 
 the generalised Spencer cohomology of Lie superalgebras and its applicatio
 n to the classification problem of supersymmetric supergravity backgrounds
  and to the construction of supersymmetric field theories in curved space.
   I will not assume any prior knowledge of supergravity or supersymmetric 
 field theories.\n
LOCATION:https://researchseminars.org/talk/SGFM/3/
END:VEVENT
END:VCALENDAR
