BEGIN:VCALENDAR
VERSION:2.0
PRODID:researchseminars.org
CALSCALE:GREGORIAN
X-WR-CALNAME:researchseminars.org
BEGIN:VEVENT
SUMMARY:Francisco Rubilar (Universidad Católica del Norte)
DTSTART:20200924T190000Z
DTEND:20200924T200000Z
DTSTAMP:20260423T052806Z
UID:SGFM/10
DESCRIPTION:Title: <a href="https://researchseminars.org/talk/SGFM/10/">Th
 e Kuranishi map for moduli of vector bundles on surfaces of general type.<
 /a>\nby Francisco Rubilar (Universidad Católica del Norte) as part of Sem
 inario de Geometría y Física - Matemática UCN-USP\n\n\nAbstract\nWe use
  the Kuranishi map to study moduli of rank two vector bundles on surfaces 
 of general type\, focusing on the case of product of smooth projective cur
 ves. More concretely\, we compare the set of stable bundles to the irreduc
 ible component of the stack containing them and prove that they have the s
 ame homology at a range bounded by $c_2$.\n\nThis is joint work with E. Ba
 llico\, E. Gasparim\, and B. Suzuki.\n
LOCATION:https://researchseminars.org/talk/SGFM/10/
END:VEVENT
END:VCALENDAR
