BEGIN:VCALENDAR
VERSION:2.0
PRODID:researchseminars.org
CALSCALE:GREGORIAN
X-WR-CALNAME:researchseminars.org
BEGIN:VEVENT
SUMMARY:Masahiro Nakahara (University of Washington)
DTSTART:20220317T223000Z
DTEND:20220317T233000Z
DTSTAMP:20260422T053943Z
UID:SFUQNTAG/63
DESCRIPTION:Title: <a href="https://researchseminars.org/talk/SFUQNTAG/63/
 ">Uniform potential density for rational points on algebraic groups and el
 liptic K3 surfaces</a>\nby Masahiro Nakahara (University of Washington) as
  part of SFU NT-AG seminar\n\n\nAbstract\nA variety satisfies potential de
 nsity if it contains a dense subset of rational points after extending its
  ground field by a finite degree. A collection of varieties satisfies unif
 orm potential density if that degree can be uniformly bounded. I will disc
 uss this property for connected algebraic groups of a fixed dimension and 
 elliptic K3 surfaces. This is joint work with Kuan-Wen Lai.\n
LOCATION:https://researchseminars.org/talk/SFUQNTAG/63/
END:VEVENT
END:VCALENDAR
