BEGIN:VCALENDAR
VERSION:2.0
PRODID:researchseminars.org
CALSCALE:GREGORIAN
X-WR-CALNAME:researchseminars.org
BEGIN:VEVENT
SUMMARY:Katrina Honigs (Simon Fraser University)
DTSTART:20220217T233000Z
DTEND:20220218T003000Z
DTSTAMP:20260422T054922Z
UID:SFUQNTAG/58
DESCRIPTION:Title: <a href="https://researchseminars.org/talk/SFUQNTAG/58/
 ">The fixed locus of a symplectic involution on a hyperkahler 4-fold of Ku
 mmer type</a>\nby Katrina Honigs (Simon Fraser University) as part of SFU 
 NT-AG seminar\n\nLecture held in K-9509.\n\nAbstract\nIn this talk I will 
 discuss work in progress joint with Sarah Frei on symplectic involutions o
 f hyperkahler manifolds of Kummer type. The fixed loci of these involution
 s correspond to cohomology classes and have very interesting properties. T
 he talk will focus on the geometry of such a fixed locus on a particular 4
 -fold.\n
LOCATION:https://researchseminars.org/talk/SFUQNTAG/58/
END:VEVENT
END:VCALENDAR
