BEGIN:VCALENDAR
VERSION:2.0
PRODID:researchseminars.org
CALSCALE:GREGORIAN
X-WR-CALNAME:researchseminars.org
BEGIN:VEVENT
SUMMARY:Stefano Marseglia (Utrecht University)
DTSTART:20201203T173000Z
DTEND:20201203T183000Z
DTSTAMP:20260422T054456Z
UID:SFUQNTAG/17
DESCRIPTION:Title: <a href="https://researchseminars.org/talk/SFUQNTAG/17/
 ">Products and Polarizations of Super-Isolated Abelian Varieties</a>\nby S
 tefano Marseglia (Utrecht University) as part of SFU NT-AG seminar\n\n\nAb
 stract\nSuper-isolated abelian varieties are abelian varieties over finite
  fields whose isogeny class contains a single isomorphism class. In this t
 alk we will review their properties\, consider their products and\, in the
  ordinary case\, we will describe their (principal) polarizations.\n
LOCATION:https://researchseminars.org/talk/SFUQNTAG/17/
END:VEVENT
END:VCALENDAR
