BEGIN:VCALENDAR
VERSION:2.0
PRODID:researchseminars.org
CALSCALE:GREGORIAN
X-WR-CALNAME:researchseminars.org
BEGIN:VEVENT
SUMMARY:Harold Erbin
DTSTART:20200608T141500Z
DTEND:20200608T144500Z
DTSTAMP:20260423T022722Z
UID:SFT2020/5
DESCRIPTION:Title: <a href="https://researchseminars.org/talk/SFT2020/5/">
 Algebraic structures of effective string field theory</a>\nby Harold Erbin
  as part of 2020 Workshop on String Field Theory and Related Aspects\n\nAb
 stract: TBA\n
LOCATION:https://researchseminars.org/talk/SFT2020/5/
END:VEVENT
END:VCALENDAR
