BEGIN:VCALENDAR
VERSION:2.0
PRODID:researchseminars.org
CALSCALE:GREGORIAN
X-WR-CALNAME:researchseminars.org
BEGIN:VEVENT
SUMMARY:Sitender Pratap Kashyap
DTSTART:20200612T134500Z
DTEND:20200612T141500Z
DTSTAMP:20260423T022721Z
UID:SFT2020/32
DESCRIPTION:Title: <a href="https://researchseminars.org/talk/SFT2020/32/"
 >Construction of covariant vertex operators in the pure spinor formalism</
 a>\nby Sitender Pratap Kashyap as part of 2020 Workshop on String Field Th
 eory and Related Aspects\n\nAbstract: TBA\n
LOCATION:https://researchseminars.org/talk/SFT2020/32/
END:VEVENT
END:VCALENDAR
