BEGIN:VCALENDAR
VERSION:2.0
PRODID:researchseminars.org
CALSCALE:GREGORIAN
X-WR-CALNAME:researchseminars.org
BEGIN:VEVENT
SUMMARY:Yang Lei (Soochow)
DTSTART:20260424T080000Z
DTEND:20260424T090000Z
DTSTAMP:20260423T022229Z
UID:SEUYC/37
DESCRIPTION:Title: <a href="https://researchseminars.org/talk/SEUYC/37/">C
 ritical dimension in d-matrix theory and its application in SU(2) subsecto
 r of N=4 SYM</a>\nby Yang Lei (Soochow) as part of SEU Yau Center Theoreti
 cal Physics Seminars\n\nAbstract: TBA\n
LOCATION:https://researchseminars.org/talk/SEUYC/37/
END:VEVENT
END:VCALENDAR
