BEGIN:VCALENDAR
VERSION:2.0
PRODID:researchseminars.org
CALSCALE:GREGORIAN
X-WR-CALNAME:researchseminars.org
BEGIN:VEVENT
SUMMARY:David Berenstein (UCSB)
DTSTART:20260403T080000Z
DTEND:20260403T090000Z
DTSTAMP:20260423T022229Z
UID:SEUYC/36
DESCRIPTION:Title: <a href="https://researchseminars.org/talk/SEUYC/36/">S
 pin chains from large N QCD at strong coupling</a>\nby David Berenstein (U
 CSB) as part of SEU Yau Center Theoretical Physics Seminars\n\nAbstract: T
 BA\n
LOCATION:https://researchseminars.org/talk/SEUYC/36/
END:VEVENT
END:VCALENDAR
