BEGIN:VCALENDAR
VERSION:2.0
PRODID:researchseminars.org
CALSCALE:GREGORIAN
X-WR-CALNAME:researchseminars.org
BEGIN:VEVENT
SUMMARY:Elli Pomoni (DESY)
DTSTART:20251205T080000Z
DTEND:20251205T090000Z
DTSTAMP:20260423T024720Z
UID:SEUYC/29
DESCRIPTION:Title: <a href="https://researchseminars.org/talk/SEUYC/29/">B
 ootstrapping Thermal CFTs</a>\nby Elli Pomoni (DESY) as part of SEU Yau Ce
 nter Theoretical Physics Seminars\n\nAbstract: TBA\n
LOCATION:https://researchseminars.org/talk/SEUYC/29/
END:VEVENT
END:VCALENDAR
