BEGIN:VCALENDAR
VERSION:2.0
PRODID:researchseminars.org
CALSCALE:GREGORIAN
X-WR-CALNAME:researchseminars.org
BEGIN:VEVENT
SUMMARY:Shota Komatsu (CERN)
DTSTART:20251128T060000Z
DTEND:20251128T070000Z
DTSTAMP:20260423T021334Z
UID:SEUYC/25
DESCRIPTION:Title: <a href="https://researchseminars.org/talk/SEUYC/25/">C
 hiral Composite Linear Dilaton</a>\nby Shota Komatsu (CERN) as part of SEU
  Yau Center Theoretical Physics Seminars\n\nAbstract: TBA\n
LOCATION:https://researchseminars.org/talk/SEUYC/25/
END:VEVENT
END:VCALENDAR
