BEGIN:VCALENDAR
VERSION:2.0
PRODID:researchseminars.org
CALSCALE:GREGORIAN
X-WR-CALNAME:researchseminars.org
BEGIN:VEVENT
SUMMARY:Andrea Guerrieri (London City U.)
DTSTART:20251010T080000Z
DTEND:20251010T090000Z
DTSTAMP:20260423T040812Z
UID:SEUYC/19
DESCRIPTION:Title: <a href="https://researchseminars.org/talk/SEUYC/19/">F
 rom data to the analytic S-matrix -- a Bootstrap approach</a>\nby Andrea G
 uerrieri (London City U.) as part of SEU Yau Center Theoretical Physics Se
 minars\n\nAbstract: TBA\n
LOCATION:https://researchseminars.org/talk/SEUYC/19/
END:VEVENT
END:VCALENDAR
