BEGIN:VCALENDAR
VERSION:2.0
PRODID:researchseminars.org
CALSCALE:GREGORIAN
X-WR-CALNAME:researchseminars.org
BEGIN:VEVENT
SUMMARY:Gang Chen (Niels Bohr Institute)
DTSTART:20250425T080000Z
DTEND:20250425T090000Z
DTSTAMP:20260423T040623Z
UID:SEUYC/14
DESCRIPTION:Title: <a href="https://researchseminars.org/talk/SEUYC/14/">A
  hypersurface model for Kerr black hole</a>\nby Gang Chen (Niels Bohr Inst
 itute) as part of SEU Yau Center Theoretical Physics Seminars\n\nAbstract:
  TBA\n
LOCATION:https://researchseminars.org/talk/SEUYC/14/
END:VEVENT
END:VCALENDAR
