BEGIN:VCALENDAR
VERSION:2.0
PRODID:researchseminars.org
CALSCALE:GREGORIAN
X-WR-CALNAME:researchseminars.org
BEGIN:VEVENT
SUMMARY:Alexander Schenkel (University of Nottingham)
DTSTART:20250516T080000Z
DTEND:20250516T090000Z
DTSTAMP:20260423T040812Z
UID:SEUYC/11
DESCRIPTION:Title: <a href="https://researchseminars.org/talk/SEUYC/11/">5
 d semi-holomorphic higher Chern-Simons theory and 3d integrable field theo
 ries</a>\nby Alexander Schenkel (University of Nottingham) as part of SEU 
 Yau Center Theoretical Physics Seminars\n\nAbstract: TBA\n
LOCATION:https://researchseminars.org/talk/SEUYC/11/
END:VEVENT
END:VCALENDAR
