BEGIN:VCALENDAR
VERSION:2.0
PRODID:researchseminars.org
CALSCALE:GREGORIAN
X-WR-CALNAME:researchseminars.org
BEGIN:VEVENT
SUMMARY:Charlotte Chan (Michigan)
DTSTART:20220205T173000Z
DTEND:20220205T183000Z
DTSTAMP:20260423T041410Z
UID:SCNTD2022/1
DESCRIPTION:Title: <a href="https://researchseminars.org/talk/SCNTD2022/1/
 ">Geometric L-packets of toral supercuspidal representations</a>\nby Charl
 otte Chan (Michigan) as part of Southern California Number Theory Day\n\nL
 ecture held in APM 6402 and online.\n\nAbstract\nIn 2001\, Yu gave an alge
 braic construction of supercuspidal representations of p-adic groups. Ther
 e has since been a lot of progress towards explicitly constructing the loc
 al Langlands correspondence for supercuspidal representations: Kazhdan-Var
 shavsky and DeBacker-Reeder (depth zero)\, Reeder and DeBacker-Spice (tora
 l)\, and Kaletha (regular). In this talk\, we present recent and ongoing w
 ork investigating a geometric counterpart to this story. This is based on 
 joint work with Masao Oi.\n
LOCATION:https://researchseminars.org/talk/SCNTD2022/1/
END:VEVENT
END:VCALENDAR
