BEGIN:VCALENDAR
VERSION:2.0
PRODID:researchseminars.org
CALSCALE:GREGORIAN
X-WR-CALNAME:researchseminars.org
BEGIN:VEVENT
SUMMARY:Eyal Markman (UMass)
DTSTART:20200709T120000Z
DTEND:20200709T130000Z
DTSTAMP:20260423T021157Z
UID:SCMSAG/11
DESCRIPTION:Title: <a href="https://researchseminars.org/talk/SCMSAG/11/">
 The Hodge conjecture for abelian fourfold of Weil type</a>\nby Eyal Markma
 n (UMass) as part of SCMS-Fudan Algebraic Geometry Seminar\n\nAbstract: TB
 A\n
LOCATION:https://researchseminars.org/talk/SCMSAG/11/
END:VEVENT
END:VCALENDAR
