BEGIN:VCALENDAR
VERSION:2.0
PRODID:researchseminars.org
CALSCALE:GREGORIAN
X-WR-CALNAME:researchseminars.org
BEGIN:VEVENT
SUMMARY:Paolo Cascini (Imperial College)
DTSTART:20200702T080000Z
DTEND:20200702T090000Z
DTSTAMP:20260423T022722Z
UID:SCMSAG/10
DESCRIPTION:Title: <a href="https://researchseminars.org/talk/SCMSAG/10/">
 Some pathologies in birational geometry in positive characteristic.</a>\nb
 y Paolo Cascini (Imperial College) as part of SCMS-Fudan Algebraic Geometr
 y Seminar\n\nAbstract: TBA\n
LOCATION:https://researchseminars.org/talk/SCMSAG/10/
END:VEVENT
END:VCALENDAR
