BEGIN:VCALENDAR
VERSION:2.0
PRODID:researchseminars.org
CALSCALE:GREGORIAN
X-WR-CALNAME:researchseminars.org
BEGIN:VEVENT
SUMMARY:Yue Zhou
DTSTART:20201104T104000Z
DTEND:20201104T113000Z
DTSTAMP:20260423T021041Z
UID:SAS/2
DESCRIPTION:Title: <a href="https://researchseminars.org/talk/SAS/2/">No l
 attice tiling of Z^n by Lee spheres of radius 2</a>\nby Yue Zhou as part o
 f Sabanci Algebra Seminar\n\nAbstract: TBA\n
LOCATION:https://researchseminars.org/talk/SAS/2/
END:VEVENT
END:VCALENDAR
