BEGIN:VCALENDAR
VERSION:2.0
PRODID:researchseminars.org
CALSCALE:GREGORIAN
X-WR-CALNAME:researchseminars.org
BEGIN:VEVENT
SUMMARY:Marcel Keller (Session Chair)
DTSTART:20201022T012900Z
DTEND:20201022T020000Z
DTSTAMP:20260422T195238Z
UID:SAC2020/40
DESCRIPTION:Title: <a href="https://researchseminars.org/talk/SAC2020/40/"
 >Session 3:  Public-Key 1</a>\nby Marcel Keller (Session Chair) as part of
  Selected Areas in Cryptography 2020\n\nAbstract: TBA\n
LOCATION:https://researchseminars.org/talk/SAC2020/40/
END:VEVENT
END:VCALENDAR
