BEGIN:VCALENDAR
VERSION:2.0
PRODID:researchseminars.org
CALSCALE:GREGORIAN
X-WR-CALNAME:researchseminars.org
BEGIN:VEVENT
SUMMARY:Guilherme Perin\, Stjepan Picek (Delft University of Technology (N
 etherlands))
DTSTART:20201022T154000Z
DTEND:20201022T154500Z
DTSTAMP:20260422T195238Z
UID:SAC2020/29
DESCRIPTION:Title: <a href="https://researchseminars.org/talk/SAC2020/29/"
 >On the Influence of Optimizers in Deep Learning-based Side-Channel Analys
 is</a>\nby Guilherme Perin\, Stjepan Picek (Delft University of Technology
  (Netherlands)) as part of Selected Areas in Cryptography 2020\n\nAbstract
 : TBA\n
LOCATION:https://researchseminars.org/talk/SAC2020/29/
END:VEVENT
END:VCALENDAR
