BEGIN:VCALENDAR
VERSION:2.0
PRODID:researchseminars.org
CALSCALE:GREGORIAN
X-WR-CALNAME:researchseminars.org
BEGIN:VEVENT
SUMMARY:Previous Speakers
DTSTART:20201022T015000Z
DTEND:20201022T020000Z
DTSTAMP:20260422T195236Z
UID:SAC2020/18
DESCRIPTION:Title: <a href="https://researchseminars.org/talk/SAC2020/18/"
 >Discussion</a>\nby Previous Speakers as part of Selected Areas in Cryptog
 raphy 2020\n\nAbstract: TBA\n
LOCATION:https://researchseminars.org/talk/SAC2020/18/
END:VEVENT
END:VCALENDAR
