BEGIN:VCALENDAR
VERSION:2.0
PRODID:researchseminars.org
CALSCALE:GREGORIAN
X-WR-CALNAME:researchseminars.org
BEGIN:VEVENT
SUMMARY:Cristian David Sarmiento Santiago (Universidad Nacional de Colombi
 a)
DTSTART:20200817T160000Z
DTEND:20200817T170000Z
DTSTAMP:20260423T005739Z
UID:SAC2/7
DESCRIPTION:Title: <a href="https://researchseminars.org/talk/SAC2/7/">An 
 invitation to the non-commutative differential calculus</a>\nby Cristian D
 avid Sarmiento Santiago (Universidad Nacional de Colombia) as part of SAC2
 -Seminario de álgebra constructiva\n\nAbstract: TBA\n
LOCATION:https://researchseminars.org/talk/SAC2/7/
END:VEVENT
END:VCALENDAR
