BEGIN:VCALENDAR
VERSION:2.0
PRODID:researchseminars.org
CALSCALE:GREGORIAN
X-WR-CALNAME:researchseminars.org
BEGIN:VEVENT
SUMMARY:Sebastián David Higuera Rincón (Universidad Nacional de Colombia
 )
DTSTART:20200810T170000Z
DTEND:20200810T180000Z
DTSTAMP:20260423T022739Z
UID:SAC2/6
DESCRIPTION:Title: <a href="https://researchseminars.org/talk/SAC2/6/">Som
 e remarks about the fusible property for noncommutative rings of polynomia
 l type</a>\nby Sebastián David Higuera Rincón (Universidad Nacional de C
 olombia) as part of SAC2-Seminario de álgebra constructiva\n\nAbstract: T
 BA\n
LOCATION:https://researchseminars.org/talk/SAC2/6/
END:VEVENT
END:VCALENDAR
