BEGIN:VCALENDAR
VERSION:2.0
PRODID:researchseminars.org
CALSCALE:GREGORIAN
X-WR-CALNAME:researchseminars.org
BEGIN:VEVENT
SUMMARY:Yésica Paola Suárez Gómez (Universidad Nacional de Colombia)
DTSTART:20200831T170000Z
DTEND:20200831T180000Z
DTSTAMP:20260423T005705Z
UID:SAC2/11
DESCRIPTION:Title: <a href="https://researchseminars.org/talk/SAC2/11/">SA
 GBI bases for noncommutative rings of polynomial type: Part I</a>\nby Yés
 ica Paola Suárez Gómez (Universidad Nacional de Colombia) as part of SAC
 2-Seminario de álgebra constructiva\n\nAbstract: TBA\n
LOCATION:https://researchseminars.org/talk/SAC2/11/
END:VEVENT
END:VCALENDAR
