BEGIN:VCALENDAR
VERSION:2.0
PRODID:researchseminars.org
CALSCALE:GREGORIAN
X-WR-CALNAME:researchseminars.org
BEGIN:VEVENT
SUMMARY:Diego Alberto Chitiva Huertas (Universidad Nacional de Colombia)
DTSTART:20200831T160000Z
DTEND:20200831T170000Z
DTSTAMP:20260423T005701Z
UID:SAC2/10
DESCRIPTION:Title: <a href="https://researchseminars.org/talk/SAC2/10/">Ma
 yorización\, politopos y matrices combinatorias</a>\nby Diego Alberto Chi
 tiva Huertas (Universidad Nacional de Colombia) as part of SAC2-Seminario 
 de álgebra constructiva\n\nAbstract: TBA\n
LOCATION:https://researchseminars.org/talk/SAC2/10/
END:VEVENT
END:VCALENDAR
