BEGIN:VCALENDAR
VERSION:2.0
PRODID:researchseminars.org
CALSCALE:GREGORIAN
X-WR-CALNAME:researchseminars.org
BEGIN:VEVENT
SUMMARY:Raúl Ures (SUSTech\, Shenzen\, China)
DTSTART:20201106T140000Z
DTEND:20201106T150000Z
DTSTAMP:20260423T005807Z
UID:ResDin/18
DESCRIPTION:Title: <a href="https://researchseminars.org/talk/ResDin/18/">
 Robust transitivity revisited: non-uniformly expanding bundles</a>\nby Ra
 úl Ures (SUSTech\, Shenzen\, China) as part of Resistência dinâmica (Dy
 namical resistance)\n\nAbstract: TBA\n
LOCATION:https://researchseminars.org/talk/ResDin/18/
END:VEVENT
END:VCALENDAR
