BEGIN:VCALENDAR
VERSION:2.0
PRODID:researchseminars.org
CALSCALE:GREGORIAN
X-WR-CALNAME:researchseminars.org
BEGIN:VEVENT
SUMMARY:Tushar Das (University of Wisconsin-La Crosse\, USA)
DTSTART:20201009T140000Z
DTEND:20201009T150000Z
DTSTAMP:20260423T022923Z
UID:ResDin/15
DESCRIPTION:Title: <a href="https://researchseminars.org/talk/ResDin/15/">
 Is your favorite dynamically defined measure strongly extremal?</a>\nby Tu
 shar Das (University of Wisconsin-La Crosse\, USA) as part of Resistência
  dinâmica (Dynamical resistance)\n\nAbstract: TBA\n
LOCATION:https://researchseminars.org/talk/ResDin/15/
END:VEVENT
END:VCALENDAR
