BEGIN:VCALENDAR
VERSION:2.0
PRODID:researchseminars.org
CALSCALE:GREGORIAN
X-WR-CALNAME:researchseminars.org
BEGIN:VEVENT
SUMMARY:Olga Paris-Romaskevich (Aix-Marseille University\, France)
DTSTART:20200911T140000Z
DTEND:20200911T150000Z
DTSTAMP:20260423T005811Z
UID:ResDin/11
DESCRIPTION:Title: <a href="https://researchseminars.org/talk/ResDin/11/">
 Tiling billiards in periodic tilings by equal triangles (and quadrilateral
 s)</a>\nby Olga Paris-Romaskevich (Aix-Marseille University\, France) as p
 art of Resistência dinâmica (Dynamical resistance)\n\nAbstract: TBA\n
LOCATION:https://researchseminars.org/talk/ResDin/11/
END:VEVENT
END:VCALENDAR
