BEGIN:VCALENDAR
VERSION:2.0
PRODID:researchseminars.org
CALSCALE:GREGORIAN
X-WR-CALNAME:researchseminars.org
BEGIN:VEVENT
SUMMARY:Susanna Terracini (U. Torino)
DTSTART:20200521T150000Z
DTEND:20200521T160000Z
DTSTAMP:20260423T024803Z
UID:RJWAPDE/6
DESCRIPTION:Title: <a href="https://researchseminars.org/talk/RJWAPDE/6/">
 Segregation\, interaction of species and related free boundary problems.</
 a>\nby Susanna Terracini (U. Torino) as part of Rio de Janeiro webinar on 
 analysis and partial differential equations\n\n\nAbstract\nPartial differe
 ntial equations are often used to describe physical laws governing a compl
 icated system in a confined space with relatively simpler behaviour on the
  boundary. Thus\, reaction-diffusion systems with strong  interaction term
 s appear in many multi-species physical problems as well as in population 
 dynamics\, chemistry and material science. The qualitative properties of t
 he solutions and their limiting profiles in different regimes will be cons
 idered\, as well as the interfaces.\n\nTo join Prof. Terracini's lecture\,
  please use the following information:\n\nhttps://puc-rio.zoom.us/j/995466
 16886?pwd=NHcvM1BXZ3hqNmI5R0YybkFmZmE4QT09\n\nMeeting ID: 995 4661 6886\nP
 assword: 046379\n
LOCATION:https://researchseminars.org/talk/RJWAPDE/6/
END:VEVENT
END:VCALENDAR
