BEGIN:VCALENDAR
VERSION:2.0
PRODID:researchseminars.org
CALSCALE:GREGORIAN
X-WR-CALNAME:researchseminars.org
BEGIN:VEVENT
SUMMARY:Cristiana De Filippis (Oxford)
DTSTART:20200429T130000Z
DTEND:20200429T140000Z
DTSTAMP:20260423T024807Z
UID:RJWAPDE/3
DESCRIPTION:Title: <a href="https://researchseminars.org/talk/RJWAPDE/3/">
 Vectorial problems: sharp Lipschitz bounds and borderline regularity</a>\n
 by Cristiana De Filippis (Oxford) as part of Rio de Janeiro webinar on ana
 lysis and partial differential equations\n\n\nAbstract\nFor the abstract o
 f Cristiana's talk\, please use the following link: \n\nhttps://drive.goog
 le.com/open?id=1eU6lWvs808FKxdqswC2x3JPJ2jEmMgFz\n\nTo join the webinar\, 
 use the following information:\n\nLink:\n\nhttps://puc-rio.zoom.us/j/94917
 916635?pwd=NWplK0FjZHNldVRXSmcxSnFwdVg0QT09\n\nMeeting ID: 949 1791 6635\n
 Password: 085148\n
LOCATION:https://researchseminars.org/talk/RJWAPDE/3/
END:VEVENT
END:VCALENDAR
