BEGIN:VCALENDAR
VERSION:2.0
PRODID:researchseminars.org
CALSCALE:GREGORIAN
X-WR-CALNAME:researchseminars.org
BEGIN:VEVENT
SUMMARY:Sylvia Serfaty (CIMS\, NYU)
DTSTART:20210409T140000Z
DTEND:20210409T150000Z
DTSTAMP:20260423T005755Z
UID:RJWAPDE/22
DESCRIPTION:Title: <a href="https://researchseminars.org/talk/RJWAPDE/22/"
 >Mean-Field limits of Coulomb-type dynamics</a>\nby Sylvia Serfaty (CIMS\,
  NYU) as part of Rio de Janeiro webinar on analysis and partial differenti
 al equations\n\n\nAbstract\nWe consider a system of $N$ particles evolving
  according to the gradient flow of their Coulomb or Riesz interaction\, or
  a similar conservative flow\, and possible added random diffusion. By Rie
 sz interaction\, we mean inverse power $s$ of the distance. We present a c
 onvergence result as $N$ tends to infinity to the expected limiting mean f
 ield evolution equation. We also discuss the derivation of Vlasov-Poisson 
 from newtonian dynamics in the monokinetic case\, as well as related resul
 ts for Ginzburg-Landau vortex dynamics.\n
LOCATION:https://researchseminars.org/talk/RJWAPDE/22/
END:VEVENT
END:VCALENDAR
