BEGIN:VCALENDAR
VERSION:2.0
PRODID:researchseminars.org
CALSCALE:GREGORIAN
X-WR-CALNAME:researchseminars.org
BEGIN:VEVENT
SUMMARY:Francesco Maggi (UT Austin)
DTSTART:20201009T160000Z
DTEND:20201009T170000Z
DTSTAMP:20260423T041407Z
UID:RJWAPDE/14
DESCRIPTION:Title: <a href="https://researchseminars.org/talk/RJWAPDE/14/"
 >Symmetry of Plateau Surfaces and the Moving Planes Method with Singularit
 ies</a>\nby Francesco Maggi (UT Austin) as part of Rio de Janeiro webinar 
 on analysis and partial differential equations\n\n\nAbstract\nBy employing
  the method of moving planes in a novel way we extend some classical symme
 try and rigidity results for smooth minimal surfaces to surfaces that have
  singularities of the sort typically observed in soap films. This is a joi
 nt work with Jacob Bernstein at Johns Hopkins University.\n
LOCATION:https://researchseminars.org/talk/RJWAPDE/14/
END:VEVENT
END:VCALENDAR
