BEGIN:VCALENDAR
VERSION:2.0
PRODID:researchseminars.org
CALSCALE:GREGORIAN
X-WR-CALNAME:researchseminars.org
BEGIN:VEVENT
SUMMARY:Yehuda Pinchover (Technion)
DTSTART:20200813T130000Z
DTEND:20200813T140000Z
DTSTAMP:20260423T041506Z
UID:RJWAPDE/10
DESCRIPTION:Title: <a href="https://researchseminars.org/talk/RJWAPDE/10/"
 >How large can Hardy-weight be?</a>\nby Yehuda Pinchover (Technion) as par
 t of Rio de Janeiro webinar on analysis and partial differential equations
 \n\n\nAbstract\nIn the first part of the talk we will discuss the existenc
 e of optimal Hardy-type inequalities with 'as large as possible' Hardy-wei
 ght for a general second-order elliptic operator defined on noncompact Rie
 mannian manifolds and discrete graphs\, while the second part of the talk 
 will be devoted to a sharp answer to the question: "How large can Hardy-we
 ight be?"\n
LOCATION:https://researchseminars.org/talk/RJWAPDE/10/
END:VEVENT
END:VCALENDAR
