BEGIN:VCALENDAR
VERSION:2.0
PRODID:researchseminars.org
CALSCALE:GREGORIAN
X-WR-CALNAME:researchseminars.org
BEGIN:VEVENT
SUMMARY:Morris Ang
DTSTART:20210427T150000Z
DTEND:20210427T160000Z
DTSTAMP:20260423T035054Z
UID:RGSP/19
DESCRIPTION:Title: <a href="https://researchseminars.org/talk/RGSP/19/">In
 tegrability of Liouville quantum gravity</a>\nby Morris Ang as part of Ran
 dom geometry and statistical physics\n\nAbstract: TBA\n
LOCATION:https://researchseminars.org/talk/RGSP/19/
END:VEVENT
END:VCALENDAR
