BEGIN:VCALENDAR
VERSION:2.0
PRODID:researchseminars.org
CALSCALE:GREGORIAN
X-WR-CALNAME:researchseminars.org
BEGIN:VEVENT
SUMMARY:Steve Zelditch (Northwestern)
DTSTART:20201210T160000Z
DTEND:20201210T170000Z
DTSTAMP:20260423T035053Z
UID:RGSP/10
DESCRIPTION:Title: <a href="https://researchseminars.org/talk/RGSP/10/">A 
 geometric approach to random metrics</a>\nby Steve Zelditch (Northwestern)
  as part of Random geometry and statistical physics\n\nAbstract: TBA\n
LOCATION:https://researchseminars.org/talk/RGSP/10/
END:VEVENT
END:VCALENDAR
