BEGIN:VCALENDAR
VERSION:2.0
PRODID:researchseminars.org
CALSCALE:GREGORIAN
X-WR-CALNAME:researchseminars.org
BEGIN:VEVENT
SUMMARY:Dustin Clausen (Copenhagen)
DTSTART:20200924T160000Z
DTEND:20200924T172000Z
DTSTAMP:20260423T052758Z
UID:RAMpAGe/17
DESCRIPTION:Title: <a href="https://researchseminars.org/talk/RAMpAGe/17/"
 >Quasicoherent sheaves on rigid analytic spaces</a>\nby Dustin Clausen (Co
 penhagen) as part of Recent Advances in Modern p-Adic Geometry (RAMpAGe)\n
 \n\nAbstract\nI will describe a theory of "solid" quasicoherent sheaves on
  rigid analytic spaces\, and explain how its basic properties give concept
 ually simple proofs of various foundational results concerning vector bund
 les and coherent sheaves in rigid geometry.  This is joint work with Peter
  Scholze.\n
LOCATION:https://researchseminars.org/talk/RAMpAGe/17/
END:VEVENT
END:VCALENDAR
