BEGIN:VCALENDAR
VERSION:2.0
PRODID:researchseminars.org
CALSCALE:GREGORIAN
X-WR-CALNAME:researchseminars.org
BEGIN:VEVENT
SUMMARY:Krzysztof Pomorski (University College Dublin)
DTSTART:20200703T150000Z
DTEND:20200703T160000Z
DTSTAMP:20260423T035036Z
UID:QTech/5
DESCRIPTION:Title: <a href="https://researchseminars.org/talk/QTech/5/">Qu
 antum communication among position based qubits</a>\nby Krzysztof Pomorski
  (University College Dublin) as part of QHS Lecture Series on Superconduct
 ing Phenomena and Electronics\n\nAbstract: TBA\n
LOCATION:https://researchseminars.org/talk/QTech/5/
END:VEVENT
END:VCALENDAR
