BEGIN:VCALENDAR
VERSION:2.0
PRODID:researchseminars.org
CALSCALE:GREGORIAN
X-WR-CALNAME:researchseminars.org
BEGIN:VEVENT
SUMMARY:Krzysztof Pomorski (Cracow University of Technology)
DTSTART:20210129T150000Z
DTEND:20210129T170000Z
DTSTAMP:20260423T021006Z
UID:QTech/12
DESCRIPTION:Title: <a href="https://researchseminars.org/talk/QTech/12/">F
 rom epidemic model to quantum-tight binding and q-AI</a>\nby Krzysztof Pom
 orski (Cracow University of Technology) as part of QHS Lecture Series on S
 uperconducting Phenomena and Electronics\n\nAbstract: TBA\n
LOCATION:https://researchseminars.org/talk/QTech/12/
END:VEVENT
END:VCALENDAR
