BEGIN:VCALENDAR
VERSION:2.0
PRODID:researchseminars.org
CALSCALE:GREGORIAN
X-WR-CALNAME:researchseminars.org
BEGIN:VEVENT
SUMMARY:Giovanni Galati (Free University of Brussels)
DTSTART:20260210T150000Z
DTEND:20260210T160000Z
DTSTAMP:20260423T040151Z
UID:QTFMS/29
DESCRIPTION:Title: <a href="https://researchseminars.org/talk/QTFMS/29/">C
 onfining Strings in a Gapless Environment</a>\nby Giovanni Galati (Free Un
 iversity of Brussels) as part of Quantum Theories of Fields\, Matter\, and
  Strings\n\n\nAbstract\nIn this talk\, I will discuss confined strings in 
 a gapless four-dimensional theory\, focusing on finite-tension string solu
 tions of the CP1 non-linear sigma model. I will analyze quantum fluctuatio
 ns around these configurations\, derive the corresponding spectrum\, and s
 tudy its properties. I will then show how one can use these results to com
 pute various observables like the quantum corrections to the ground-state 
 energy and the effective string width. Through the discussion\, I will com
 pare these findings with the usual predictions of effective string theory.
 \n
LOCATION:https://researchseminars.org/talk/QTFMS/29/
END:VEVENT
END:VCALENDAR
