BEGIN:VCALENDAR
VERSION:2.0
PRODID:researchseminars.org
CALSCALE:GREGORIAN
X-WR-CALNAME:researchseminars.org
BEGIN:VEVENT
SUMMARY:Luca Ciambelli
DTSTART:20251107T150000Z
DTEND:20251107T160000Z
DTSTAMP:20260423T035905Z
UID:QTFMS/20
DESCRIPTION:Title: <a href="https://researchseminars.org/talk/QTFMS/20/">T
 he Language of Null Hypersurfaces: Luca Ciambelli</a>\nby Luca Ciambelli a
 s part of Quantum Theories of Fields\, Matter\, and Strings\n\n\nAbstract\
 nCarrollian physics provides a new geometric lens to describe lightlike\, 
 or null\, hypersurfaces. In this talk\, I will introduce the basic tools a
 nd concepts in order to define the Carrollian structure and explain how it
  naturally captures the intrinsic geometry of null manifolds. I will then 
 show how to induce this structure directly from an ambient spacetime\, and
  how the familiar geometric relations of general relativity\, such as the 
 Gauss-Codazzi equations and Einstein’s equations\, appear in this settin
 g. Along the way\, I will highlight connections with the BMS symmetry grou
 p and the emerging role of Carrollian structures in gravitational physics 
 and holography.\n
LOCATION:https://researchseminars.org/talk/QTFMS/20/
END:VEVENT
END:VCALENDAR
