BEGIN:VCALENDAR
VERSION:2.0
PRODID:researchseminars.org
CALSCALE:GREGORIAN
X-WR-CALNAME:researchseminars.org
BEGIN:VEVENT
SUMMARY:Alessandro Tomasiello (University of Milano-Bicocca)
DTSTART:20250527T130000Z
DTEND:20250527T140000Z
DTSTAMP:20260423T022718Z
UID:QTFMS/2
DESCRIPTION:Title: <a href="https://researchseminars.org/talk/QTFMS/2/">De
 fects in 6d SCFTs Leading to 4d N=1 Models</a>\nby Alessandro Tomasiello (
 University of Milano-Bicocca) as part of Quantum Theories of Fields\, Matt
 er\, and Strings\n\n\nAbstract\nMany superconformal field theories in four
  dimensions can be obtained by compactifying parent 6D theories on Riemann
  surfaces. Using holography in massive IIA string theory\, I will provide 
 evidence that a large class of such models can be enriched by punctures\, 
 generalizing the so-called Class S construction.\n\nTo get the Zoom link y
 o can either fill out the following form or contact the organizer: https:/
 /docs.google.com/forms/d/1KmOdB7a8Z3vH9mRJsPT9pr0Ej0Qj7dMI9I1JKEEiYzI/view
 form?edit_requested=true\n
LOCATION:https://researchseminars.org/talk/QTFMS/2/
END:VEVENT
END:VCALENDAR
